BEGIN:VCALENDAR
VERSION:2.0
PRODID:-//XR Update - ECPv6.6.4.2//NONSGML v1.0//EN
CALSCALE:GREGORIAN
METHOD:PUBLISH
X-WR-CALNAME:XR Update
X-ORIGINAL-URL:https://xrupdate.com
X-WR-CALDESC:Events for XR Update
REFRESH-INTERVAL;VALUE=DURATION:PT1H
X-Robots-Tag:noindex
X-PUBLISHED-TTL:PT1H
BEGIN:VTIMEZONE
TZID:UTC
BEGIN:STANDARD
TZOFFSETFROM:+0000
TZOFFSETTO:+0000
TZNAME:UTC
DTSTART:20240101T000000
END:STANDARD
END:VTIMEZONE
BEGIN:VEVENT
DTSTART;VALUE=DATE:20240613
DTEND;VALUE=DATE:20240614
DTSTAMP:20260421T142709
CREATED:20240610T210832Z
LAST-MODIFIED:20240610T210832Z
UID:10000164-1718236800-1718323199@xrupdate.com
SUMMARY:Neon Squad Tactics (Quest)
DESCRIPTION:Error happened.
URL:https://xrupdate.com/release/neon-squad-tactics-quest/
ATTACH;FMTTYPE=image/jpeg:https://xrupdate.com/wp-content/uploads/2024/06/Neon-Squad-Tactics.jpg
END:VEVENT
BEGIN:VEVENT
DTSTART;VALUE=DATE:20240613
DTEND;VALUE=DATE:20240614
DTSTAMP:20260421T142709
CREATED:20240610T210949Z
LAST-MODIFIED:20240610T210949Z
UID:10000165-1718236800-1718323199@xrupdate.com
SUMMARY:BlackForge: A Smithing Adventure (PCVR\, Quest)
DESCRIPTION:Error happened.
URL:https://xrupdate.com/release/blackforge-a-smithing-adventure-pcvr-quest/
ATTACH;FMTTYPE=image/jpeg:https://xrupdate.com/wp-content/uploads/2024/06/Black-Forge.jpg
END:VEVENT
BEGIN:VEVENT
DTSTART;VALUE=DATE:20240613
DTEND;VALUE=DATE:20240614
DTSTAMP:20260421T142709
CREATED:20240610T211103Z
LAST-MODIFIED:20240610T211103Z
UID:10000166-1718236800-1718323199@xrupdate.com
SUMMARY:Taskmaster VR (PCVR\, Quest)
DESCRIPTION:Error happened.
URL:https://xrupdate.com/release/taskmaster-vr-pcvr-quest/
ATTACH;FMTTYPE=image/jpeg:https://xrupdate.com/wp-content/uploads/2024/06/Taskmaster-VR.jpg
END:VEVENT
END:VCALENDAR