BEGIN:VCALENDAR
VERSION:2.0
PRODID:-//XR Update - ECPv6.6.4.2//NONSGML v1.0//EN
CALSCALE:GREGORIAN
METHOD:PUBLISH
X-ORIGINAL-URL:https://xrupdate.com
X-WR-CALDESC:Events for XR Update
REFRESH-INTERVAL;VALUE=DURATION:PT1H
X-Robots-Tag:noindex
X-PUBLISHED-TTL:PT1H
BEGIN:VTIMEZONE
TZID:UTC
BEGIN:STANDARD
TZOFFSETFROM:+0000
TZOFFSETTO:+0000
TZNAME:UTC
DTSTART:20240101T000000
END:STANDARD
END:VTIMEZONE
BEGIN:VEVENT
DTSTART;VALUE=DATE:20241219
DTEND;VALUE=DATE:20241220
DTSTAMP:20260419T120842
CREATED:20241216T174751Z
LAST-MODIFIED:20241216T175249Z
UID:10000193-1734566400-1734652799@xrupdate.com
SUMMARY:Alien: Rogue Incursion (PCVR\, PS VR2)
DESCRIPTION:Error happened.
URL:https://xrupdate.com/release/alien-rogue-incursion-pc-vr-ps-vr2/
ATTACH;FMTTYPE=image/webp:https://xrupdate.com/wp-content/uploads/2024/12/Alien-Rogue-Incursion.webp
END:VEVENT
END:VCALENDAR