BEGIN:VCALENDAR
VERSION:2.0
PRODID:-//XR Update - ECPv6.6.4.2//NONSGML v1.0//EN
CALSCALE:GREGORIAN
METHOD:PUBLISH
X-ORIGINAL-URL:https://xrupdate.com
X-WR-CALDESC:Events for XR Update
REFRESH-INTERVAL;VALUE=DURATION:PT1H
X-Robots-Tag:noindex
X-PUBLISHED-TTL:PT1H
BEGIN:VTIMEZONE
TZID:UTC
BEGIN:STANDARD
TZOFFSETFROM:+0000
TZOFFSETTO:+0000
TZNAME:UTC
DTSTART:20240101T000000
END:STANDARD
END:VTIMEZONE
BEGIN:VEVENT
DTSTART;VALUE=DATE:20241114
DTEND;VALUE=DATE:20241115
DTSTAMP:20260419T131809
CREATED:20241113T024940Z
LAST-MODIFIED:20241113T024940Z
UID:10000175-1731542400-1731628799@xrupdate.com
SUMMARY:DIG VR (Quest)
DESCRIPTION:Error happened.
URL:https://xrupdate.com/release/dig-vr-quest/
ATTACH;FMTTYPE=image/png:https://xrupdate.com/wp-content/uploads/2024/11/Cover_Landscape_Dig-1-1.png
END:VEVENT
BEGIN:VEVENT
DTSTART;VALUE=DATE:20241114
DTEND;VALUE=DATE:20241115
DTSTAMP:20260419T131809
CREATED:20241113T025400Z
LAST-MODIFIED:20241113T025400Z
UID:10000176-1731542400-1731628799@xrupdate.com
SUMMARY:EXOcars (Quest\, PCVR)
DESCRIPTION:Error happened.
URL:https://xrupdate.com/release/exocars-quest-pcvr/
ATTACH;FMTTYPE=image/jpeg:https://xrupdate.com/wp-content/uploads/2024/11/Exocars.jpg
END:VEVENT
BEGIN:VEVENT
DTSTART;VALUE=DATE:20241114
DTEND;VALUE=DATE:20241115
DTSTAMP:20260419T131809
CREATED:20241113T030236Z
LAST-MODIFIED:20241113T030236Z
UID:10000177-1731542400-1731628799@xrupdate.com
SUMMARY:Last Stand (Quest)
DESCRIPTION:Error happened.
URL:https://xrupdate.com/release/last-stand-quest/
ATTACH;FMTTYPE=image/jpeg:https://xrupdate.com/wp-content/uploads/2024/11/Last-Stand.jpg
END:VEVENT
BEGIN:VEVENT
DTSTART;VALUE=DATE:20241114
DTEND;VALUE=DATE:20241115
DTSTAMP:20260419T131809
CREATED:20241113T030418Z
LAST-MODIFIED:20241113T030418Z
UID:10000178-1731542400-1731628799@xrupdate.com
SUMMARY:Spatial Ops (Quest)
DESCRIPTION:Error happened.
URL:https://xrupdate.com/release/spatial-ops-quest/
ATTACH;FMTTYPE=image/jpeg:https://xrupdate.com/wp-content/uploads/2024/11/spatial-ops.jpg
END:VEVENT
BEGIN:VEVENT
DTSTART;VALUE=DATE:20241114
DTEND;VALUE=DATE:20241115
DTSTAMP:20260419T131809
CREATED:20241113T030716Z
LAST-MODIFIED:20241113T030716Z
UID:10000179-1731542400-1731628799@xrupdate.com
SUMMARY:Starship Troopers: Continuum (Quest)
DESCRIPTION:Error happened.
URL:https://xrupdate.com/release/starship-troopers-continuum-quest/
ATTACH;FMTTYPE=image/jpeg:https://xrupdate.com/wp-content/uploads/2024/11/Starship-Troopers-Continuum.jpg
END:VEVENT
BEGIN:VEVENT
DTSTART;VALUE=DATE:20241115
DTEND;VALUE=DATE:20241116
DTSTAMP:20260419T131809
CREATED:20241113T030942Z
LAST-MODIFIED:20241113T030942Z
UID:10000180-1731628800-1731715199@xrupdate.com
SUMMARY:Corridor VR (PS VR2)
DESCRIPTION:Error happened.
URL:https://xrupdate.com/release/corridor-vr-ps-vr2/
ATTACH;FMTTYPE=image/avif:https://xrupdate.com/wp-content/uploads/2024/11/Corridor-VR.avif
END:VEVENT
END:VCALENDAR